BEGIN:VCALENDAR
VERSION:2.0
PRODID:-//AudioTheme 1.6.2
BEGIN:VEVENT
UID:https://classicsingersongwriters.co.uk/sandg/?post_type=audiotheme_gig&#038;p=1139
URL:https://classicsingersongwriters.co.uk/sandg/shows/a-celebration-of-simon-garfunkel-108/
DTSTART;TZID=GMT:20250201T200000
SUMMARY:A Celebration of Simon & Garfunkel
LOCATION:The Watson Institute\,\, Castle Carrrock\, \, Cumbria\, \, United Kingdom\, CA8 9LU
END:VEVENT
END:VCALENDAR