BEGIN:VCALENDAR
VERSION:2.0
PRODID:-//AudioTheme 1.6.2
BEGIN:VEVENT
UID:https://classicsingersongwriters.co.uk/sandg/?post_type=audiotheme_gig&#038;p=1137
URL:https://classicsingersongwriters.co.uk/sandg/shows/a-celebration-of-simon-garfunkel-107/
DTSTART;TZID=GMT:20250222T193000
SUMMARY:A Celebration of Simon & Garfunkel
DESCRIPTION:Good to be back
LOCATION:Burton in Kendal Memorial Hall \, Main Street \, Burton \, Cumbria  \, UK\, LA6 1NA  
END:VEVENT
END:VCALENDAR