BEGIN:VCALENDAR
VERSION:2.0
PRODID:-//AudioTheme 1.6.2
BEGIN:VEVENT
UID:https://classicsingersongwriters.co.uk/sandg/?post_type=audiotheme_gig&#038;p=1133
URL:https://classicsingersongwriters.co.uk/sandg/shows/a-celebration-of-simon-garfunkel-106/
DTSTART;TZID=GMT:20250208T193000
SUMMARY:A Celebration Of Simon & Garfunkel
DESCRIPTION:Great to be in Brighouse
LOCATION:St John The Divine\,\, St Johns Street \, Rastrick \, Brighouse \, Yorkshire \, United Kingdom\, HD6 1HT
END:VEVENT
END:VCALENDAR