BEGIN:VCALENDAR
VERSION:2.0
PRODID:-//AudioTheme 1.6.2
BEGIN:VEVENT
UID:https://classicsingersongwriters.co.uk/sandg/?post_type=audiotheme_gig&#038;p=1128
URL:https://classicsingersongwriters.co.uk/sandg/shows/a-celebration-of-simon-garfunkel-105/
DTSTART;TZID=GMT:20251205T000000
SUMMARY:A Celebration of Simon & Garfunkel
DESCRIPTION:Great to be back
LOCATION:Leyland Road Methodist Church\,\, Leyland Road \, Southport \, \, PR9 9JQ
END:VEVENT
END:VCALENDAR