BEGIN:VCALENDAR
VERSION:2.0
PRODID:-//AudioTheme 1.6.2
BEGIN:VEVENT
UID:https://classicsingersongwriters.co.uk/sandg/?post_type=audiotheme_gig&#038;p=1117
URL:https://classicsingersongwriters.co.uk/sandg/shows/a-celebration-of-simon-garfunkel-104/
DTSTART;TZID=GMT:20241116T193000
SUMMARY:A Celebration of Simon & Garfunkel
DESCRIPTION:Great to be appearing at The Marine Hall after so many great nights at Thornton Little Theatre.
LOCATION:Marine Hall\, The Esplanade \, Fleetwood \, Fylde \, UK \, FY7 6HF 
END:VEVENT
END:VCALENDAR