BEGIN:VCALENDAR
VERSION:2.0
PRODID:-//AudioTheme 1.6.2
BEGIN:VEVENT
UID:https://classicsingersongwriters.co.uk/sandg/?post_type=audiotheme_gig&#038;p=1115
URL:https://classicsingersongwriters.co.uk/sandg/shows/a-celebration-of-simon-garfunkel-103/
DTSTART;TZID=GMT:20250926T000000
SUMMARY:A Celebration of Simon & Garfunkel
LOCATION:Bakewell Town Hall\, 1 The Square \, Bakewell \, Derbyshire  \, UK \, DE45 1BT 
END:VEVENT
END:VCALENDAR