BEGIN:VCALENDAR
VERSION:2.0
PRODID:-//AudioTheme 1.6.2
BEGIN:VEVENT
UID:https://classicsingersongwriters.co.uk/sandg/?post_type=audiotheme_gig&#038;p=1113
URL:https://classicsingersongwriters.co.uk/sandg/shows/a-celebration-of-simon-garfunkel-102/
DTSTART;TZID=GMT:20260424T183000
SUMMARY:A Celebration of Simon & Garfunkel
LOCATION:Abbots Bromley Hall\, Bagot Street \, Abbots Bromley \, Rugeley \, UK\, WS15 3DB 
END:VEVENT
END:VCALENDAR