BEGIN:VCALENDAR
VERSION:2.0
PRODID:-//AudioTheme 1.6.2
BEGIN:VEVENT
UID:https://classicsingersongwriters.co.uk/sandg/?post_type=audiotheme_gig&#038;p=1110
URL:https://classicsingersongwriters.co.uk/sandg/shows/a-celebration-of-simon-garfunkel-100/
DTSTART;TZID=GMT:20241018T183000
SUMMARY:A Celebration of Simon & Garfunkel
LOCATION:Padiham Town Hall Ballroom\, 83 Burnley Road \, Padiham \, Burnley \, UK\, BB2 8BL
END:VEVENT
END:VCALENDAR