BEGIN:VCALENDAR
VERSION:2.0
PRODID:-//AudioTheme 1.6.2
BEGIN:VEVENT
UID:http://classicsingersongwriters.co.uk/sandg/?post_type=audiotheme_gig&#038;p=504
URL:https://classicsingersongwriters.co.uk/sandg/shows/a-celebration-of-simon-garfunkel-10/
DTSTART;TZID=GMT:20160708T183000
SUMMARY:A Celebration of Simon & Garfunkel
DESCRIPTION:Returning to perform as part of St Mary's Music Festival.
LOCATION:St Mary's Church\, Towngate\, Eccleston\,\, Chorley\, Lancashire\, UK\, PR7 5QL
END:VEVENT
END:VCALENDAR