BEGIN:VCALENDAR
VERSION:2.0
PRODID:-//AudioTheme 1.6.2
BEGIN:VEVENT
UID:http://classicsingersongwriters.co.uk/sandg/?post_type=audiotheme_gig&#038;p=347
URL:https://classicsingersongwriters.co.uk/sandg/shows/a-celebration-of-simon-and-garfunkel/
DTSTART;TZID=GMT:20220429T183000
SUMMARY:A Celebration of Simon & Garfunkel
LOCATION:North Ferriby Village Hall\, 50 Church Road\, \, Ferriby\, Hull\, United Kingdom\, HU14 3AA
END:VEVENT
END:VCALENDAR