BEGIN:VCALENDAR
VERSION:2.0
PRODID:-//AudioTheme 1.6.2
BEGIN:VEVENT
UID:http://classicsingersongwriters.co.uk/sandg/?post_type=audiotheme_gig&#038;p=493
URL:https://classicsingersongwriters.co.uk/sandg/shows/a-celebration-of-simon-and-garfunkel-4/
DTSTART;TZID=GMT:20230421T183000
SUMMARY:A Celebration of Simon & Garfunkel
DESCRIPTION:A special concert in Burnsall.
LOCATION:Burnsall Village Hall\, Main St  Burnsall  \, Skipton\, Yorkshire\, UK\,  BD23 6BP 
END:VEVENT
END:VCALENDAR