BEGIN:VCALENDAR
VERSION:2.0
PRODID:-//AudioTheme 1.6.2
BEGIN:VEVENT
UID:http://classicsingersongwriters.co.uk/sandg/?post_type=audiotheme_gig&#038;p=490
URL:https://classicsingersongwriters.co.uk/sandg/shows/a-celebration-of-simon-and-garfunkel-3/
DTSTART;TZID=GMT:20170616T183000
SUMMARY:A Celebration of Simon & Garfunkel
DESCRIPTION:Looking forward to our return to this great venue in our home town.
LOCATION:The Lancastrian\, Chorley Town Hall Market Street\, Chorley\, Lancashire\, UK\, PR7 1DP
END:VEVENT
END:VCALENDAR