BEGIN:VCALENDAR
VERSION:2.0
PRODID:-//AudioTheme 1.6.2
BEGIN:VEVENT
UID:http://classicsingersongwriters.co.uk/sandg/?post_type=audiotheme_gig&#038;p=472
URL:https://classicsingersongwriters.co.uk/sandg/shows/a-celebration-of-simon-and-garfunkel-2/
DTSTART;TZID=GMT:20220506T190000
SUMMARY:A Celebration of Simon and Garfunkel
DESCRIPTION:First Friday @ West Heaton. Looking forward to returning for the third time to this well supported venue.
LOCATION:First Friday Live @West Heaton\, Prince's Rd\,  Heaton Moor\,\, Stockport\, \, UK\, SK4 3NQ
END:VEVENT
END:VCALENDAR